BEGIN:VCALENDAR
VERSION:2.0
PRODID:-//ddaysoftware.com//NONSGML DDay.iCal 1.0//EN
BEGIN:VEVENT
DTEND:20090826T103000
DTSTAMP:20260423T044146
DTSTART:20090826T103000
LOCATION:CPS Central Administration Building Chicago\, IL 60603
SEQUENCE:0
SUMMARY:Monthly board meeting
UID:0e7e013b-55f8-4b4b-9da4-8ed723db09cd
END:VEVENT
END:VCALENDAR
