BEGIN:VCALENDAR
VERSION:2.0
PRODID:-//ddaysoftware.com//NONSGML DDay.iCal 1.0//EN
BEGIN:VEVENT
DTEND:20111116T103000
DTSTAMP:20260422T032931
DTSTART:20111116T103000
LOCATION:CPS Central Administration Building Chicago\, IL 60603
SEQUENCE:0
SUMMARY:Monthly board meeting
UID:ea29160a-830a-43db-a107-370338bb5d02
END:VEVENT
END:VCALENDAR
