BEGIN:VCALENDAR
VERSION:2.0
PRODID:-//ddaysoftware.com//NONSGML DDay.iCal 1.0//EN
BEGIN:VEVENT
DESCRIPTION:The meeting will be held at CPS Loop Office\, 42 West Madison S
 treet\, Garden Level\, Board Room.  The Board President and the Chief Exec
 utive Officer have determined that registered speakers who wish to present
  during Public Participation may have the option to participate in person 
 at the location of the Board meeting or virtually via an electronic platfo
 rm. The public will have access to the meeting via live stream at cpsboe.o
 rg.\nThe Public Participation segment of the meeting will begin as indicat
 ed in the meeting agenda and proceed in accordance with Public Participati
 on guidelines. Board Meetings will be live-streamed to the general public 
 on the Board website (www.cpsboe.org). \nFor the May 13\, 2026\, Agenda Re
 view Committee Meeting\, advance registration to speak will be available b
 eginning Monday\, May 11th at 10:30 a.m. and will close on Tuesday\, May 1
 2th at 10:30 a.m. Anyone interested in speaking can sign up. After the 24-
 hour registration period\, a lottery will randomly select a set number of 
 speakers from those who registered. For example\, if 100 people register\,
  the lottery might select 30 of them to speak. This process provides every
 one with a fair opportunity to address the Board. Advance registration dur
 ing this period is available by the following methods:\n\nOnline: www.cpsb
 oe.org (recommended)\nPhone: (773) 553-1600\n\nMembers of the public who w
 ish to submit written comments for Board of Education meetings can do so v
 ia the Written Comments Form on the Board’s website at www.cpsboe.org or b
 y mail to 42 W. Madison Street\, Garden Level. Written comments received b
 etween the posting of the public agenda and notice is posted through 5 p.m
 . the day after the Board of Education meeting will be submitted to the Bo
 ard for their consideration and posted within five (5) business days on ou
 r website at www.cpsboe.org.
DTEND:20260513T103000
DTSTAMP:20260425T084739
DTSTART:20260513T103000
LOCATION:CPS Loop Office Chicago\, IL 60602
SEQUENCE:0
SUMMARY:Monthly board meeting
UID:27648d36-7a0a-4c05-a0c3-eb0ed5d67b44
END:VEVENT
END:VCALENDAR
