BEGIN:VCALENDAR
VERSION:2.0
PRODID:-//ddaysoftware.com//NONSGML DDay.iCal 1.0//EN
BEGIN:VEVENT
DTEND:20050427T103000
DTSTAMP:20260423T043157
DTSTART:20050427T103000
LOCATION:CPS Central Administration Building Chicago\, IL 60603
SEQUENCE:0
SUMMARY:Monthly board meeting
UID:2a8ab089-3aa1-4fb2-90f2-4ab1c9b1d80c
END:VEVENT
END:VCALENDAR
