BEGIN:VCALENDAR
VERSION:2.0
PRODID:-//ddaysoftware.com//NONSGML DDay.iCal 1.0//EN
BEGIN:VEVENT
DTEND:20060125T103000
DTSTAMP:20260423T043157
DTSTART:20060125T103000
LOCATION:CPS Central Administration Building Chicago\, IL 60603
SEQUENCE:0
SUMMARY:Monthly board meeting
UID:a7aebd5a-d78e-41a0-81fe-30876ced48fa
END:VEVENT
END:VCALENDAR
