BEGIN:VCALENDAR
VERSION:2.0
PRODID:-//ddaysoftware.com//NONSGML DDay.iCal 1.0//EN
BEGIN:VEVENT
DTEND:20070926T103000
DTSTAMP:20260423T044008
DTSTART:20070926T103000
LOCATION:CPS Central Administration Building Chicago\, IL 60603
SEQUENCE:0
SUMMARY:Monthly board meeting
UID:c36a3a08-bb52-4606-b433-4eb16b9745dd
END:VEVENT
END:VCALENDAR
