BEGIN:VCALENDAR
VERSION:2.0
PRODID:-//ddaysoftware.com//NONSGML DDay.iCal 1.0//EN
BEGIN:VEVENT
DTEND:20241113T180000
DTSTAMP:20260423T032411
DTSTART:20241113T180000
LOCATION:Vaughn Occupational High School Chicago\, IL 60641
SEQUENCE:0
SUMMARY:Monthly board meeting
UID:0cc15a03-7a4e-4da2-a1ee-d50e0f8dd597
END:VEVENT
END:VCALENDAR
